BEGIN:VCALENDAR
VERSION:2.0
PRODID:-//TESL Ontario - ECPv6.15.20//NONSGML v1.0//EN
CALSCALE:GREGORIAN
METHOD:PUBLISH
X-WR-CALNAME:TESL Ontario
X-ORIGINAL-URL:https://teslontario.org
X-WR-CALDESC:Events for TESL Ontario
REFRESH-INTERVAL;VALUE=DURATION:PT1H
X-Robots-Tag:noindex
X-PUBLISHED-TTL:PT1H
BEGIN:VTIMEZONE
TZID:America/Toronto
BEGIN:DAYLIGHT
TZOFFSETFROM:-0500
TZOFFSETTO:-0400
TZNAME:EDT
DTSTART:20230312T070000
END:DAYLIGHT
BEGIN:STANDARD
TZOFFSETFROM:-0400
TZOFFSETTO:-0500
TZNAME:EST
DTSTART:20231105T060000
END:STANDARD
BEGIN:DAYLIGHT
TZOFFSETFROM:-0500
TZOFFSETTO:-0400
TZNAME:EDT
DTSTART:20240310T070000
END:DAYLIGHT
BEGIN:STANDARD
TZOFFSETFROM:-0400
TZOFFSETTO:-0500
TZNAME:EST
DTSTART:20241103T060000
END:STANDARD
BEGIN:DAYLIGHT
TZOFFSETFROM:-0500
TZOFFSETTO:-0400
TZNAME:EDT
DTSTART:20250309T070000
END:DAYLIGHT
BEGIN:STANDARD
TZOFFSETFROM:-0400
TZOFFSETTO:-0500
TZNAME:EST
DTSTART:20251102T060000
END:STANDARD
BEGIN:DAYLIGHT
TZOFFSETFROM:-0500
TZOFFSETTO:-0400
TZNAME:EDT
DTSTART:20260308T070000
END:DAYLIGHT
BEGIN:STANDARD
TZOFFSETFROM:-0400
TZOFFSETTO:-0500
TZNAME:EST
DTSTART:20261101T060000
END:STANDARD
END:VTIMEZONE
BEGIN:VEVENT
DTSTART;TZID=America/Toronto:20250126T190000
DTEND;TZID=America/Toronto:20250126T200000
DTSTAMP:20260425T093745
CREATED:20240807T210436Z
LAST-MODIFIED:20240807T210436Z
UID:10000069-1737918000-1737921600@teslontario.org
SUMMARY:Assessment Strategies for CLB/PBLA Speaking Levels
DESCRIPTION:Presenter: Selena Parker\, OCELT
URL:https://teslontario.org/event/assessment-strategies-for-clb-pbla-speaking-levels/
END:VEVENT
BEGIN:VEVENT
DTSTART;TZID=America/Toronto:20250124T190000
DTEND;TZID=America/Toronto:20250124T210000
DTSTAMP:20260425T093745
CREATED:20250109T145225Z
LAST-MODIFIED:20250109T145225Z
UID:10000079-1737745200-1737752400@teslontario.org
SUMMARY:TESL Kingston Networking Event
DESCRIPTION:
URL:https://teslontario.org/event/tesl-kingston-networking-event/
END:VEVENT
BEGIN:VEVENT
DTSTART;TZID=America/Toronto:20250119T190000
DTEND;TZID=America/Toronto:20250119T200000
DTSTAMP:20260425T093745
CREATED:20240731T202455Z
LAST-MODIFIED:20240731T202455Z
UID:10000068-1737313200-1737316800@teslontario.org
SUMMARY:Language Assessment: How to Design and Execute It
DESCRIPTION:Presenter: Kasia Kasztenna\, OCELT
URL:https://teslontario.org/event/language-assessment-how-to-design-and-execute-it/
END:VEVENT
BEGIN:VEVENT
DTSTART;TZID=America/Toronto:20241203T190000
DTEND;TZID=America/Toronto:20241203T200000
DTSTAMP:20260425T093745
CREATED:20241107T153113Z
LAST-MODIFIED:20241107T153113Z
UID:10000075-1733252400-1733256000@teslontario.org
SUMMARY:Navigating CanAvenue
DESCRIPTION:Presenter: John Allan\, OCELT
URL:https://teslontario.org/event/navigating-canavenue/
END:VEVENT
BEGIN:VEVENT
DTSTART;TZID=America/Toronto:20241201T140000
DTEND;TZID=America/Toronto:20241201T160000
DTSTAMP:20260425T093745
CREATED:20241112T141229Z
LAST-MODIFIED:20241112T141229Z
UID:10000078-1733061600-1733068800@teslontario.org
SUMMARY:TESL Niagara’s Holiday Social
DESCRIPTION:
URL:https://teslontario.org/event/tesl-niagaras-holiday-social/
END:VEVENT
BEGIN:VEVENT
DTSTART;TZID=America/Toronto:20241130T110000
DTEND;TZID=America/Toronto:20241130T130000
DTSTAMP:20260425T093745
CREATED:20241107T154659Z
LAST-MODIFIED:20241107T154659Z
UID:10000077-1732964400-1732971600@teslontario.org
SUMMARY:TESL Durham AGM and Holiday Social
DESCRIPTION:
URL:https://teslontario.org/event/tesl-durham-agm-and-holiday-social/
END:VEVENT
BEGIN:VEVENT
DTSTART;VALUE=DATE:20241113
DTEND;VALUE=DATE:20241116
DTSTAMP:20260425T093745
CREATED:20240412T144459Z
LAST-MODIFIED:20240412T144459Z
UID:10000054-1731456000-1731715199@teslontario.org
SUMMARY:TESL Ontario Annual Conference
DESCRIPTION:
URL:https://teslontario.org/event/tesl-ontario-annual-conference/
END:VEVENT
BEGIN:VEVENT
DTSTART;TZID=America/Toronto:20241112T170000
DTEND;TZID=America/Toronto:20241112T210000
DTSTAMP:20260425T093745
CREATED:20240412T145308Z
LAST-MODIFIED:20240412T145308Z
UID:10000055-1731430800-1731445200@teslontario.org
SUMMARY:TESL Ontario Awards & Networking Event
DESCRIPTION:
URL:https://teslontario.org/event/tesl-ontario-awards-networking-event/
END:VEVENT
BEGIN:VEVENT
DTSTART;TZID=America/Toronto:20241023T190000
DTEND;TZID=America/Toronto:20241023T200000
DTSTAMP:20260425T093745
CREATED:20240731T202234Z
LAST-MODIFIED:20240731T202234Z
UID:10000067-1729710000-1729713600@teslontario.org
SUMMARY:Speaking Activities With Poodll Plugins
DESCRIPTION:Presenter: John Allan\, OCELT
URL:https://teslontario.org/event/speaking-activities-with-poodll-plugins/
END:VEVENT
BEGIN:VEVENT
DTSTART;TZID=America/Toronto:20241017T200000
DTEND;TZID=America/Toronto:20241017T210000
DTSTAMP:20260425T093745
CREATED:20240624T141940Z
LAST-MODIFIED:20240624T141940Z
UID:10000066-1729195200-1729198800@teslontario.org
SUMMARY:English Language Teacher Self-Efficacy Beliefs
DESCRIPTION:Presenters: Michael Karas\, OCELT
URL:https://teslontario.org/event/english-language-teacher-self-efficacy-beliefs/
END:VEVENT
BEGIN:VEVENT
DTSTART;TZID=America/Toronto:20241017T173000
DTEND;TZID=America/Toronto:20241017T200000
DTSTAMP:20260425T093745
CREATED:20240925T180803Z
LAST-MODIFIED:20240930T135714Z
UID:10000074-1729186200-1729195200@teslontario.org
SUMMARY:TESL Toronto AGM & Social Event
DESCRIPTION:
URL:https://teslontario.org/event/tesl-toronto-agm-social-event/
END:VEVENT
BEGIN:VEVENT
DTSTART;TZID=America/Toronto:20241010T190000
DTEND;TZID=America/Toronto:20241010T200000
DTSTAMP:20260425T093745
CREATED:20240904T200354Z
LAST-MODIFIED:20240904T200354Z
UID:10000072-1728586800-1728590400@teslontario.org
SUMMARY:Mentorship Event
DESCRIPTION:Mentors: Susan Webb\, Anjum Karimi\, Jennifer Jones\, Ghazal Lotfi
URL:https://teslontario.org/event/mentorship-event/
END:VEVENT
BEGIN:VEVENT
DTSTART;TZID=America/Toronto:20240929T140000
DTEND;TZID=America/Toronto:20240929T163000
DTSTAMP:20260425T093745
CREATED:20240909T185632Z
LAST-MODIFIED:20240909T185645Z
UID:10000073-1727618400-1727627400@teslontario.org
SUMMARY:TESL Niagara – Conversation Café
DESCRIPTION:
URL:https://teslontario.org/event/tesl-niagara-conversation-cafe/
END:VEVENT
BEGIN:VEVENT
DTSTART;TZID=America/Toronto:20240925T190000
DTEND;TZID=America/Toronto:20240925T200000
DTSTAMP:20260425T093745
CREATED:20240624T141739Z
LAST-MODIFIED:20240624T141739Z
UID:10000065-1727290800-1727294400@teslontario.org
SUMMARY:Teaching and Researching Mental Health in EAP Classes
DESCRIPTION:Presenters: Corinne Marshall\, Danielle Freitas OCELT\, & Tanaz Javan
URL:https://teslontario.org/event/teaching-and-researching-mental-health-in-eap-classes/
END:VEVENT
BEGIN:VEVENT
DTSTART;TZID=America/Toronto:20240922T190000
DTEND;TZID=America/Toronto:20240922T203000
DTSTAMP:20260425T093745
CREATED:20240624T141502Z
LAST-MODIFIED:20240808T204057Z
UID:10000064-1727031600-1727037000@teslontario.org
SUMMARY:Evaluating PBLA Portfolios by CCLB
DESCRIPTION:Presenters: Kathy Hughes\, Rana Ashkar\, Lisa Herrera\, Larry Iveson
URL:https://teslontario.org/event/evaluating-pbla-portfolios/
END:VEVENT
BEGIN:VEVENT
DTSTART;TZID=America/Toronto:20240821T190000
DTEND;TZID=America/Toronto:20240821T200000
DTSTAMP:20260425T093745
CREATED:20240510T133804Z
LAST-MODIFIED:20240510T133804Z
UID:10000062-1724266800-1724270400@teslontario.org
SUMMARY:Exploring Online Rubrics for Virtual Assessment and e-Portfolios
DESCRIPTION:Presenter: Susan Webb
URL:https://teslontario.org/event/exploring-online-rubrics-for-virtual-assessment-and-e-portfolios/
END:VEVENT
BEGIN:VEVENT
DTSTART;TZID=America/Toronto:20240808T190000
DTEND;TZID=America/Toronto:20240808T203000
DTSTAMP:20260425T093745
CREATED:20240425T140342Z
LAST-MODIFIED:20240425T140342Z
UID:10000059-1723143600-1723149000@teslontario.org
SUMMARY:AI in the ESL Classroom: Game Changer or Double-Edged Sword? – Part 2
DESCRIPTION:Presenter: Jen Artan\, M.Ed\, CELTA
URL:https://teslontario.org/event/ai-in-the-esl-classroom-game-changer-or-double-edged-sword-part-2/
END:VEVENT
BEGIN:VEVENT
DTSTART;TZID=America/Toronto:20240721T190000
DTEND;TZID=America/Toronto:20240721T200000
DTSTAMP:20260425T093745
CREATED:20240501T154620Z
LAST-MODIFIED:20240501T154620Z
UID:10000061-1721588400-1721592000@teslontario.org
SUMMARY:Digitizing Old Lesson Materials Using Roshi.ai
DESCRIPTION:Presenter: Jonny Kalambay
URL:https://teslontario.org/event/digitizing-old-lesson-materials-using-roshi-ai/
END:VEVENT
BEGIN:VEVENT
DTSTART;TZID=America/Toronto:20240718T200000
DTEND;TZID=America/Toronto:20240718T210000
DTSTAMP:20260425T093745
CREATED:20240430T130056Z
LAST-MODIFIED:20240430T130056Z
UID:10000060-1721332800-1721336400@teslontario.org
SUMMARY:Gamification for LINC Programs Using ADDIE
DESCRIPTION:Presenter: Brittany Hack\, OCELT
URL:https://teslontario.org/event/gamification-for-linc-programs-using-addie/
END:VEVENT
BEGIN:VEVENT
DTSTART;TZID=America/Toronto:20240704T190000
DTEND;TZID=America/Toronto:20240704T203000
DTSTAMP:20260425T093745
CREATED:20240425T140147Z
LAST-MODIFIED:20240425T140147Z
UID:10000058-1720119600-1720125000@teslontario.org
SUMMARY:AI in the ESL Classroom: Game Changer or Double-Edged Sword? – Part 1
DESCRIPTION:Presenter: Jen Artan\, M.Ed\, CELTA
URL:https://teslontario.org/event/ai-in-the-esl-classroom-game-changer-or-double-edged-sword-part-1/
END:VEVENT
BEGIN:VEVENT
DTSTART;TZID=America/Toronto:20240623T190000
DTEND;TZID=America/Toronto:20240623T200000
DTSTAMP:20260425T093745
CREATED:20240131T210226Z
LAST-MODIFIED:20240131T210226Z
UID:10000047-1719169200-1719172800@teslontario.org
SUMMARY:Unlocking Revolutionizing Assessment Strategies
DESCRIPTION:Presenter: Marcela Danowski
URL:https://teslontario.org/event/unlocking-revolutionizing-assessment-strategies/
END:VEVENT
BEGIN:VEVENT
DTSTART;TZID=America/Toronto:20240608T090000
DTEND;TZID=America/Toronto:20240608T163000
DTSTAMP:20260425T093745
CREATED:20240527T155535Z
LAST-MODIFIED:20240527T155535Z
UID:10000063-1717837200-1717864200@teslontario.org
SUMMARY:TOSCON 2024
DESCRIPTION:
URL:https://teslontario.org/event/toscon-2024/
END:VEVENT
BEGIN:VEVENT
DTSTART;TZID=America/Toronto:20240529T190000
DTEND;TZID=America/Toronto:20240529T200000
DTSTAMP:20260425T093745
CREATED:20240111T023114Z
LAST-MODIFIED:20240111T023114Z
UID:10000039-1717009200-1717012800@teslontario.org
SUMMARY:Drama Meets ESL\, the CLBs and the PBLA
DESCRIPTION:Presenter: Roberta Power
URL:https://teslontario.org/event/drama-meets-esl-the-clbs-and-the-pbla/
END:VEVENT
BEGIN:VEVENT
DTSTART;TZID=America/Toronto:20240529T080000
DTEND;TZID=America/Toronto:20240531T170000
DTSTAMP:20260425T093745
CREATED:20240325T161215Z
LAST-MODIFIED:20240325T161527Z
UID:10000051-1716969600-1717174800@teslontario.org
SUMMARY:2024 CALL Conference
DESCRIPTION:
URL:https://teslontario.org/event/2024-call-conference/
END:VEVENT
BEGIN:VEVENT
DTSTART;TZID=America/Toronto:20240525T090000
DTEND;TZID=America/Toronto:20240525T140000
DTSTAMP:20260425T093745
CREATED:20240423T185104Z
LAST-MODIFIED:20240423T185104Z
UID:10000057-1716627600-1716645600@teslontario.org
SUMMARY:TESL Waterloo-Wellington AGM and PD Event
DESCRIPTION:
URL:https://teslontario.org/event/tesl-waterloo-wellington-agm-and-pd-event/
END:VEVENT
BEGIN:VEVENT
DTSTART;TZID=America/Toronto:20240525T080000
DTEND;TZID=America/Toronto:20240525T133000
DTSTAMP:20260425T093745
CREATED:20240423T184832Z
LAST-MODIFIED:20240423T184832Z
UID:10000056-1716624000-1716643800@teslontario.org
SUMMARY:TESL Ottawa AGM and PD Event
DESCRIPTION:
URL:https://teslontario.org/event/tesl-ottawa-agm-and-pd-event/
END:VEVENT
BEGIN:VEVENT
DTSTART;TZID=America/Toronto:20240522T190000
DTEND;TZID=America/Toronto:20240522T200000
DTSTAMP:20260425T093745
CREATED:20240123T210720Z
LAST-MODIFIED:20240123T210720Z
UID:10000046-1716404400-1716408000@teslontario.org
SUMMARY:Creative Complexities of PowerPoint
DESCRIPTION:Presenter: Sara Machan\, OCELT
URL:https://teslontario.org/event/creative-complexities-of-powerpoint/
END:VEVENT
BEGIN:VEVENT
DTSTART;TZID=America/Toronto:20240515T000000
DTEND;TZID=America/Toronto:20240515T000000
DTSTAMP:20260425T093745
CREATED:20240403T201502Z
LAST-MODIFIED:20240403T201502Z
UID:10000053-1715731200-1715731200@teslontario.org
SUMMARY:TESL Niagara
DESCRIPTION:A Night of Conversation
URL:https://teslontario.org/event/tesl-niagara/
END:VEVENT
BEGIN:VEVENT
DTSTART;TZID=America/Toronto:20240509T190000
DTEND;TZID=America/Toronto:20240509T203000
DTSTAMP:20260425T093745
CREATED:20240123T151853Z
LAST-MODIFIED:20240123T151853Z
UID:10000045-1715281200-1715286600@teslontario.org
SUMMARY:PBLA 5+ Years in – Reflecting on the Practice – Part 2
DESCRIPTION:Presenter: Beth Beardall\, OCELT
URL:https://teslontario.org/event/pbla-5-years-in-reflecting-on-the-practice-part-2/
END:VEVENT
BEGIN:VEVENT
DTSTART;TZID=America/Toronto:20240427T090000
DTEND;TZID=America/Toronto:20240427T120000
DTSTAMP:20260425T093745
CREATED:20240403T201235Z
LAST-MODIFIED:20240412T134813Z
UID:10000052-1714208400-1714219200@teslontario.org
SUMMARY:TESL Durham Event
DESCRIPTION:
URL:https://teslontario.org/event/tesl-durham-event/
END:VEVENT
END:VCALENDAR