BEGIN:VCALENDAR
VERSION:2.0
PRODID:-//TESL Ontario - ECPv6.15.20//NONSGML v1.0//EN
CALSCALE:GREGORIAN
METHOD:PUBLISH
X-ORIGINAL-URL:https://teslontario.org
X-WR-CALDESC:Events for TESL Ontario
REFRESH-INTERVAL;VALUE=DURATION:PT1H
X-Robots-Tag:noindex
X-PUBLISHED-TTL:PT1H
BEGIN:VTIMEZONE
TZID:America/Toronto
BEGIN:DAYLIGHT
TZOFFSETFROM:-0500
TZOFFSETTO:-0400
TZNAME:EDT
DTSTART:20250309T070000
END:DAYLIGHT
BEGIN:STANDARD
TZOFFSETFROM:-0400
TZOFFSETTO:-0500
TZNAME:EST
DTSTART:20251102T060000
END:STANDARD
BEGIN:DAYLIGHT
TZOFFSETFROM:-0500
TZOFFSETTO:-0400
TZNAME:EDT
DTSTART:20260308T070000
END:DAYLIGHT
BEGIN:STANDARD
TZOFFSETFROM:-0400
TZOFFSETTO:-0500
TZNAME:EST
DTSTART:20261101T060000
END:STANDARD
BEGIN:DAYLIGHT
TZOFFSETFROM:-0500
TZOFFSETTO:-0400
TZNAME:EDT
DTSTART:20270314T070000
END:DAYLIGHT
BEGIN:STANDARD
TZOFFSETFROM:-0400
TZOFFSETTO:-0500
TZNAME:EST
DTSTART:20271107T060000
END:STANDARD
END:VTIMEZONE
BEGIN:VEVENT
DTSTART;TZID=America/Toronto:20260715T190000
DTEND;TZID=America/Toronto:20260715T200000
DTSTAMP:20260425T093909
CREATED:20260120T201301Z
LAST-MODIFIED:20260120T201301Z
UID:10000137-1784142000-1784145600@teslontario.org
SUMMARY:Teaching with Generative AI: Human before Machine
DESCRIPTION:Presenter: Plamen S. Kushkiev\, OCELT
URL:https://teslontario.org/event/teaching-with-generative-ai-human-before-machine/
END:VEVENT
BEGIN:VEVENT
DTSTART;TZID=America/Toronto:20260730T200000
DTEND;TZID=America/Toronto:20260730T210000
DTSTAMP:20260425T093909
CREATED:20260302T213621Z
LAST-MODIFIED:20260302T213952Z
UID:10000147-1785441600-1785445200@teslontario.org
SUMMARY:Respect and Reconciliation: A Training for Language Instructors
DESCRIPTION:Presenters: \nDori Tarjan\, OCELT & Nadine Leggett
URL:https://teslontario.org/event/respect-and-reconciliation-a-training-for-language-instructors/
END:VEVENT
BEGIN:VEVENT
DTSTART;TZID=America/Toronto:20260812T190000
DTEND;TZID=America/Toronto:20260812T200000
DTSTAMP:20260425T093909
CREATED:20260223T163041Z
LAST-MODIFIED:20260223T163041Z
UID:10000145-1786561200-1786564800@teslontario.org
SUMMARY:Fostering AI Literacy for Adult Educators
DESCRIPTION:Presenters: Plamen S. Kushkiev\, OCELT & Alexander Harchenko\, OCELT
URL:https://teslontario.org/event/fostering-ai-literacy-for-adult-educators/
END:VEVENT
BEGIN:VEVENT
DTSTART;TZID=America/Toronto:20260827T200000
DTEND;TZID=America/Toronto:20260827T210000
DTSTAMP:20260425T093909
CREATED:20260211T184141Z
LAST-MODIFIED:20260211T184141Z
UID:10000144-1787860800-1787864400@teslontario.org
SUMMARY:Setting the Scene: From Classroom to Real World
DESCRIPTION:Presenter: Diana Lombardi\, OCELT
URL:https://teslontario.org/event/setting-the-scene-from-classroom-to-real-world/
END:VEVENT
BEGIN:VEVENT
DTSTART;VALUE=DATE:20261104
DTEND;VALUE=DATE:20261105
DTSTAMP:20260425T093909
CREATED:20260303T144307Z
LAST-MODIFIED:20260303T144411Z
UID:10000148-1793750400-1793836799@teslontario.org
SUMMARY:TESL Ontario Annual Conference
DESCRIPTION:
URL:https://teslontario.org/event/tesl-ontario-annual-conference-2/
END:VEVENT
BEGIN:VEVENT
DTSTART;VALUE=DATE:20261105
DTEND;VALUE=DATE:20261106
DTSTAMP:20260425T093909
CREATED:20260303T144444Z
LAST-MODIFIED:20260303T144444Z
UID:10000149-1793836800-1793923199@teslontario.org
SUMMARY:TESL Ontario Annual Conference
DESCRIPTION:
URL:https://teslontario.org/event/tesl-ontario-annual-conference-3/
END:VEVENT
BEGIN:VEVENT
DTSTART;VALUE=DATE:20261106
DTEND;VALUE=DATE:20261107
DTSTAMP:20260425T093909
CREATED:20260303T144511Z
LAST-MODIFIED:20260303T144511Z
UID:10000150-1793923200-1794009599@teslontario.org
SUMMARY:TESL Ontario Annual Conference
DESCRIPTION:
URL:https://teslontario.org/event/tesl-ontario-annual-conference-4/
END:VEVENT
END:VCALENDAR