BEGIN:VCALENDAR
VERSION:2.0
PRODID:-//TESL Ontario - ECPv6.15.20//NONSGML v1.0//EN
CALSCALE:GREGORIAN
METHOD:PUBLISH
X-WR-CALNAME:TESL Ontario
X-ORIGINAL-URL:https://teslontario.org
X-WR-CALDESC:Events for TESL Ontario
REFRESH-INTERVAL;VALUE=DURATION:PT1H
X-Robots-Tag:noindex
X-PUBLISHED-TTL:PT1H
BEGIN:VTIMEZONE
TZID:America/Toronto
BEGIN:DAYLIGHT
TZOFFSETFROM:-0500
TZOFFSETTO:-0400
TZNAME:EDT
DTSTART:20220313T070000
END:DAYLIGHT
BEGIN:STANDARD
TZOFFSETFROM:-0400
TZOFFSETTO:-0500
TZNAME:EST
DTSTART:20221106T060000
END:STANDARD
BEGIN:DAYLIGHT
TZOFFSETFROM:-0500
TZOFFSETTO:-0400
TZNAME:EDT
DTSTART:20230312T070000
END:DAYLIGHT
BEGIN:STANDARD
TZOFFSETFROM:-0400
TZOFFSETTO:-0500
TZNAME:EST
DTSTART:20231105T060000
END:STANDARD
BEGIN:DAYLIGHT
TZOFFSETFROM:-0500
TZOFFSETTO:-0400
TZNAME:EDT
DTSTART:20240310T070000
END:DAYLIGHT
BEGIN:STANDARD
TZOFFSETFROM:-0400
TZOFFSETTO:-0500
TZNAME:EST
DTSTART:20241103T060000
END:STANDARD
BEGIN:DAYLIGHT
TZOFFSETFROM:-0500
TZOFFSETTO:-0400
TZNAME:EDT
DTSTART:20250309T070000
END:DAYLIGHT
BEGIN:STANDARD
TZOFFSETFROM:-0400
TZOFFSETTO:-0500
TZNAME:EST
DTSTART:20251102T060000
END:STANDARD
END:VTIMEZONE
BEGIN:VTIMEZONE
TZID:UTC
BEGIN:STANDARD
TZOFFSETFROM:+0000
TZOFFSETTO:+0000
TZNAME:UTC
DTSTART:20220101T000000
END:STANDARD
END:VTIMEZONE
BEGIN:VEVENT
DTSTART;TZID=America/Toronto:20240411T190000
DTEND;TZID=America/Toronto:20240411T203000
DTSTAMP:20260425T094016
CREATED:20240123T151602Z
LAST-MODIFIED:20240123T151602Z
UID:10000044-1712862000-1712867400@teslontario.org
SUMMARY:PBLA 5+ Years in – Reflecting on the Practice – Part 1
DESCRIPTION:Presenter: Beth Beardall\, OCELT
URL:https://teslontario.org/event/pbla-5-years-in-reflecting-on-the-practice-part-1/
END:VEVENT
BEGIN:VEVENT
DTSTART;TZID=America/Toronto:20240406T100000
DTEND;TZID=America/Toronto:20240406T140000
DTSTAMP:20260425T094016
CREATED:20240307T131807Z
LAST-MODIFIED:20240307T131807Z
UID:10000048-1712397600-1712412000@teslontario.org
SUMMARY:In-person PD Event
DESCRIPTION:
URL:https://teslontario.org/event/in-person-pd-event/
END:VEVENT
BEGIN:VEVENT
DTSTART;TZID=America/Toronto:20240326T180000
DTEND;TZID=America/Toronto:20240326T203000
DTSTAMP:20260425T094016
CREATED:20240311T154522Z
LAST-MODIFIED:20240311T154629Z
UID:10000050-1711476000-1711485000@teslontario.org
SUMMARY:TESL Toronto Employment Event 2024
DESCRIPTION:
URL:https://teslontario.org/event/tesl-toronto-employment-event-2024/
END:VEVENT
BEGIN:VEVENT
DTSTART;TZID=America/Toronto:20240324T190000
DTEND;TZID=America/Toronto:20240324T200000
DTSTAMP:20260425T094016
CREATED:20231211T211033Z
LAST-MODIFIED:20231211T211033Z
UID:10000037-1711306800-1711310400@teslontario.org
SUMMARY:Trauma Informed Teaching Practices in Adult ESL Classrooms
DESCRIPTION:Presenter: Ruba Kallab\, OCELT
URL:https://teslontario.org/event/trauma-informed-teaching-practices-in-adult-esl-classrooms/
END:VEVENT
BEGIN:VEVENT
DTSTART;TZID=America/Toronto:20240321T200000
DTEND;TZID=America/Toronto:20240321T210000
DTSTAMP:20260425T094016
CREATED:20231211T191311Z
LAST-MODIFIED:20231211T191311Z
UID:10000034-1711051200-1711054800@teslontario.org
SUMMARY:Unleashing the Power of ChatGPT\, DALL-E\, and MURF – Part 2
DESCRIPTION:Presenter: Jen Artan
URL:https://teslontario.org/event/unleashing-the-power-of-chatgpt-dall-e-and-murf-part-2/
END:VEVENT
BEGIN:VEVENT
DTSTART;TZID=America/Toronto:20240321T183000
DTEND;TZID=America/Toronto:20240321T210000
DTSTAMP:20260425T094016
CREATED:20240311T154151Z
LAST-MODIFIED:20240311T154151Z
UID:10000049-1711045800-1711054800@teslontario.org
SUMMARY:TESL Peel-Halton-Etobicoke AGM and PD Event
DESCRIPTION:Presenter: Nina Spencer
URL:https://teslontario.org/event/tesl-peel-halton-etobicoke-agm-and-pd-event/
END:VEVENT
BEGIN:VEVENT
DTSTART;TZID=America/Toronto:20240222T200000
DTEND;TZID=America/Toronto:20240222T210000
DTSTAMP:20260425T094016
CREATED:20231211T210900Z
LAST-MODIFIED:20231211T210900Z
UID:10000036-1708632000-1708635600@teslontario.org
SUMMARY:Making The Most Of Your Ellii Account
DESCRIPTION:Presenter: Ben Buckwold\, CEO & Founder of Ellii
URL:https://teslontario.org/event/making-the-most-of-your-ellii-account/
END:VEVENT
BEGIN:VEVENT
DTSTART;TZID=America/Toronto:20240217T090000
DTEND;TZID=America/Toronto:20240217T123000
DTSTAMP:20260425T094016
CREATED:20240118T165655Z
LAST-MODIFIED:20240118T165655Z
UID:10000042-1708160400-1708173000@teslontario.org
SUMMARY:TESL Niagara Workshop
DESCRIPTION:In-Person & Hands-On AI Workshop
URL:https://teslontario.org/event/tesl-niagara-workshop/
END:VEVENT
BEGIN:VEVENT
DTSTART;TZID=America/Toronto:20240215T200000
DTEND;TZID=America/Toronto:20240215T210000
DTSTAMP:20260425T094016
CREATED:20231211T191133Z
LAST-MODIFIED:20231211T191133Z
UID:10000033-1708027200-1708030800@teslontario.org
SUMMARY:Unleashing the Power of ChatGPT\, DALL-E\, and MURF – Part 1
DESCRIPTION:Presenter: Jen Artan
URL:https://teslontario.org/event/unleashing-the-power-of-chatgpt-dall-e-and-murf-part-1/
END:VEVENT
BEGIN:VEVENT
DTSTART;TZID=America/Toronto:20240213T190000
DTEND;TZID=America/Toronto:20240213T203000
DTSTAMP:20260425T094016
CREATED:20240111T025039Z
LAST-MODIFIED:20240111T025039Z
UID:10000040-1707850800-1707856200@teslontario.org
SUMMARY:Stepping Into Classroom-Based Research
DESCRIPTION:Subject-Matter Expert: Saskia Van Viegen\, York University
URL:https://teslontario.org/event/stepping-into-classroom-based-research/
END:VEVENT
BEGIN:VEVENT
DTSTART;TZID=America/Toronto:20240203T093000
DTEND;TZID=America/Toronto:20240203T133000
DTSTAMP:20260425T094016
CREATED:20240116T230843Z
LAST-MODIFIED:20240116T230843Z
UID:10000041-1706952600-1706967000@teslontario.org
SUMMARY:TESL NY/YR AGM and Mini Conference
DESCRIPTION:
URL:https://teslontario.org/event/tesl-ny-yr-agm-and-mini-conference/
END:VEVENT
BEGIN:VEVENT
DTSTART;TZID=America/Toronto:20240124T190000
DTEND;TZID=America/Toronto:20240124T200000
DTSTAMP:20260425T094016
CREATED:20231211T190956Z
LAST-MODIFIED:20231211T190956Z
UID:10000032-1706122800-1706126400@teslontario.org
SUMMARY:TESL Career Navigation Tips
DESCRIPTION:Presenter: Kiara Kim
URL:https://teslontario.org/event/tesl-career-navigation-tips/
END:VEVENT
BEGIN:VEVENT
DTSTART;TZID=UTC:20240121T190000
DTEND;TZID=UTC:20240121T200000
DTSTAMP:20260425T094016
CREATED:20231020T033950Z
LAST-MODIFIED:20231020T033950Z
UID:10000026-1705863600-1705867200@teslontario.org
SUMMARY:Writing More Accessible Instructions
DESCRIPTION:Presenter: Amber Shaw
URL:https://teslontario.org/event/writing-more-accessible-instructions/
END:VEVENT
BEGIN:VEVENT
DTSTART;TZID=America/Toronto:20231212T190000
DTEND;TZID=America/Toronto:20231212T200000
DTSTAMP:20260425T094016
CREATED:20231211T192908Z
LAST-MODIFIED:20231211T193222Z
UID:10000035-1702407600-1702411200@teslontario.org
SUMMARY:TESL Northern Region PD Opportunity Meeting
DESCRIPTION:
URL:https://teslontario.org/event/tesl-northern-region-pd-opportunity-meeting/
END:VEVENT
BEGIN:VEVENT
DTSTART;TZID=UTC:20231207T080000
DTEND;TZID=UTC:20231207T170000
DTSTAMP:20260425T094016
CREATED:20231001T065848Z
LAST-MODIFIED:20231001T065848Z
UID:10000025-1701936000-1701968400@teslontario.org
SUMMARY:CESBA Conference
DESCRIPTION:
URL:https://teslontario.org/event/cesba-conference-2/
END:VEVENT
BEGIN:VEVENT
DTSTART;TZID=UTC:20231206T190000
DTEND;TZID=UTC:20231206T200000
DTSTAMP:20260425T094016
CREATED:20230927T012553Z
LAST-MODIFIED:20230927T012553Z
UID:10000016-1701889200-1701892800@teslontario.org
SUMMARY:Using AI to Make Levelled Lessons With Online Materials
DESCRIPTION:Presenter: Jonny Kalambay
URL:https://teslontario.org/event/using-ai-to-make-levelled-lessons-with-online-materials/
END:VEVENT
BEGIN:VEVENT
DTSTART;TZID=UTC:20231206T080000
DTEND;TZID=UTC:20231206T170000
DTSTAMP:20260425T094016
CREATED:20231001T065814Z
LAST-MODIFIED:20231001T065814Z
UID:10000024-1701849600-1701882000@teslontario.org
SUMMARY:CESBA Conference
DESCRIPTION:
URL:https://teslontario.org/event/cesba-conference/
END:VEVENT
BEGIN:VEVENT
DTSTART;TZID=America/Toronto:20231202T093000
DTEND;TZID=America/Toronto:20231202T233000
DTSTAMP:20260425T094016
CREATED:20231113T214637Z
LAST-MODIFIED:20231113T214637Z
UID:10000030-1701509400-1701559800@teslontario.org
SUMMARY:TESL Durham Online Event
DESCRIPTION:
URL:https://teslontario.org/event/tesl-durham-online-event/
END:VEVENT
BEGIN:VEVENT
DTSTART;TZID=UTC:20231130T200000
DTEND;TZID=UTC:20231130T210000
DTSTAMP:20260425T094016
CREATED:20230927T012308Z
LAST-MODIFIED:20230927T012308Z
UID:10000015-1701374400-1701378000@teslontario.org
SUMMARY:Teaching Lower Level Learners
DESCRIPTION:Presenter: Rachel Fourny\, OCELT
URL:https://teslontario.org/event/teaching-lower-level-learners/
END:VEVENT
BEGIN:VEVENT
DTSTART;TZID=UTC:20231128T190000
DTEND;TZID=UTC:20231128T203000
DTSTAMP:20260425T094016
CREATED:20230927T015115Z
LAST-MODIFIED:20230927T015115Z
UID:10000017-1701198000-1701203400@teslontario.org
SUMMARY:English Mostly: Co-Creating Plurilingual Classroom Policies
DESCRIPTION:Subject-Matter Expert: Rebecca Schmor
URL:https://teslontario.org/event/english-mostly-co-creating-plurilingual-classroom-policies/
END:VEVENT
BEGIN:VEVENT
DTSTART;TZID=America/Toronto:20231124T183000
DTEND;TZID=America/Toronto:20231124T210000
DTSTAMP:20260425T094016
CREATED:20231121T203811Z
LAST-MODIFIED:20231121T203811Z
UID:10000031-1700850600-1700859600@teslontario.org
SUMMARY:TESL Niagara Member Social Event
DESCRIPTION:
URL:https://teslontario.org/event/tesl-niagara-member-social-event/
END:VEVENT
BEGIN:VEVENT
DTSTART;TZID=UTC:20231123T200000
DTEND;TZID=UTC:20231123T210000
DTSTAMP:20260425T094016
CREATED:20230927T012002Z
LAST-MODIFIED:20230927T012002Z
UID:10000013-1700769600-1700773200@teslontario.org
SUMMARY:Canadian Workplace Pragmatics
DESCRIPTION:Presenter: Anjum Karimi\, OCELT
URL:https://teslontario.org/event/canadian-workplace-pragmatics/
END:VEVENT
BEGIN:VEVENT
DTSTART;TZID=America/Toronto:20231122T173000
DTEND;TZID=America/Toronto:20231122T203000
DTSTAMP:20260425T094016
CREATED:20231113T214359Z
LAST-MODIFIED:20231113T214359Z
UID:10000029-1700674200-1700685000@teslontario.org
SUMMARY:TESL Toronto Workshop & AGM
DESCRIPTION:
URL:https://teslontario.org/event/tesl-toronto-workshop-agm/
END:VEVENT
BEGIN:VEVENT
DTSTART;TZID=UTC:20231110T090000
DTEND;TZID=UTC:20231110T160000
DTSTAMP:20260425T094016
CREATED:20231001T064203Z
LAST-MODIFIED:20231020T034132Z
UID:10000022-1699606800-1699632000@teslontario.org
SUMMARY:TESL Ontario Conference
DESCRIPTION:
URL:https://teslontario.org/event/tesl-ontario-conference-3/
END:VEVENT
BEGIN:VEVENT
DTSTART;TZID=UTC:20231109T090000
DTEND;TZID=UTC:20231109T173000
DTSTAMP:20260425T094016
CREATED:20231001T064111Z
LAST-MODIFIED:20231020T034216Z
UID:10000021-1699520400-1699551000@teslontario.org
SUMMARY:TESL Ontario Conference
DESCRIPTION:
URL:https://teslontario.org/event/tesl-ontario-conference-2/
END:VEVENT
BEGIN:VEVENT
DTSTART;TZID=UTC:20231108T090000
DTEND;TZID=UTC:20231108T210000
DTSTAMP:20260425T094016
CREATED:20231001T063832Z
LAST-MODIFIED:20231020T034247Z
UID:10000020-1699434000-1699477200@teslontario.org
SUMMARY:TESL Ontario Conference
DESCRIPTION:
URL:https://teslontario.org/event/tesl-ontario-conference/
END:VEVENT
BEGIN:VEVENT
DTSTART;TZID=UTC:20231026T180000
DTEND;TZID=UTC:20231026T200000
DTSTAMP:20260425T094016
CREATED:20231021T033058Z
LAST-MODIFIED:20231021T033058Z
UID:10000027-1698343200-1698350400@teslontario.org
SUMMARY:TESL WW Mini PD Event
DESCRIPTION:
URL:https://teslontario.org/event/tesl-ww-mini-pd-event/
END:VEVENT
BEGIN:VEVENT
DTSTART;VALUE=DATE:20231021
DTEND;VALUE=DATE:20231022
DTSTAMP:20260425T094016
CREATED:20230927T023826Z
LAST-MODIFIED:20231021T033329Z
UID:10000019-1697846400-1697932799@teslontario.org
SUMMARY:TESL London Fall Conference
DESCRIPTION:
URL:https://teslontario.org/event/tesl-london-fall-conference/
END:VEVENT
BEGIN:VEVENT
DTSTART;TZID=UTC:20231012T190000
DTEND;TZID=UTC:20231012T201500
DTSTAMP:20260425T094016
CREATED:20230927T022233Z
LAST-MODIFIED:20230927T022233Z
UID:10000018-1697137200-1697141700@teslontario.org
SUMMARY:TESL Ontario Mentorship Pilot Program
DESCRIPTION:Presenters: Susan Webb\, Anjum Karimi\, Dr. MaryAnne John\, Jennifer Jones
URL:https://teslontario.org/event/tesl-ontario-mentorship-pilot-program/
END:VEVENT
BEGIN:VEVENT
DTSTART;TZID=UTC:20231004T190000
DTEND;TZID=UTC:20231004T200000
DTSTAMP:20260425T094016
CREATED:20230927T011145Z
LAST-MODIFIED:20230927T011145Z
UID:10000014-1696446000-1696449600@teslontario.org
SUMMARY:Health Insurance 101 – What You Need to Know
DESCRIPTION:Presenters: Galen Flynn & Kaylie Flynn
URL:https://teslontario.org/event/health-insurance-101-what-you-need-to-know/
END:VEVENT
END:VCALENDAR