BEGIN:VCALENDAR
VERSION:2.0
PRODID:-//TESL Ontario - ECPv6.15.20//NONSGML v1.0//EN
CALSCALE:GREGORIAN
METHOD:PUBLISH
X-WR-CALNAME:TESL Ontario
X-ORIGINAL-URL:https://teslontario.org
X-WR-CALDESC:Events for TESL Ontario
REFRESH-INTERVAL;VALUE=DURATION:PT1H
X-Robots-Tag:noindex
X-PUBLISHED-TTL:PT1H
BEGIN:VTIMEZONE
TZID:America/Toronto
BEGIN:DAYLIGHT
TZOFFSETFROM:-0500
TZOFFSETTO:-0400
TZNAME:EDT
DTSTART:20220313T070000
END:DAYLIGHT
BEGIN:STANDARD
TZOFFSETFROM:-0400
TZOFFSETTO:-0500
TZNAME:EST
DTSTART:20221106T060000
END:STANDARD
BEGIN:DAYLIGHT
TZOFFSETFROM:-0500
TZOFFSETTO:-0400
TZNAME:EDT
DTSTART:20230312T070000
END:DAYLIGHT
BEGIN:STANDARD
TZOFFSETFROM:-0400
TZOFFSETTO:-0500
TZNAME:EST
DTSTART:20231105T060000
END:STANDARD
BEGIN:DAYLIGHT
TZOFFSETFROM:-0500
TZOFFSETTO:-0400
TZNAME:EDT
DTSTART:20240310T070000
END:DAYLIGHT
BEGIN:STANDARD
TZOFFSETFROM:-0400
TZOFFSETTO:-0500
TZNAME:EST
DTSTART:20241103T060000
END:STANDARD
END:VTIMEZONE
BEGIN:VTIMEZONE
TZID:UTC
BEGIN:STANDARD
TZOFFSETFROM:+0000
TZOFFSETTO:+0000
TZNAME:UTC
DTSTART:20220101T000000
END:STANDARD
END:VTIMEZONE
BEGIN:VEVENT
DTSTART;TZID=America/Toronto:20231202T093000
DTEND;TZID=America/Toronto:20231202T233000
DTSTAMP:20260425T064828
CREATED:20231113T214637Z
LAST-MODIFIED:20231113T214637Z
UID:10000030-1701509400-1701559800@teslontario.org
SUMMARY:TESL Durham Online Event
DESCRIPTION:
URL:https://teslontario.org/event/tesl-durham-online-event/
END:VEVENT
BEGIN:VEVENT
DTSTART;TZID=UTC:20231130T200000
DTEND;TZID=UTC:20231130T210000
DTSTAMP:20260425T064828
CREATED:20230927T012308Z
LAST-MODIFIED:20230927T012308Z
UID:10000015-1701374400-1701378000@teslontario.org
SUMMARY:Teaching Lower Level Learners
DESCRIPTION:Presenter: Rachel Fourny\, OCELT
URL:https://teslontario.org/event/teaching-lower-level-learners/
END:VEVENT
BEGIN:VEVENT
DTSTART;TZID=UTC:20231128T190000
DTEND;TZID=UTC:20231128T203000
DTSTAMP:20260425T064828
CREATED:20230927T015115Z
LAST-MODIFIED:20230927T015115Z
UID:10000017-1701198000-1701203400@teslontario.org
SUMMARY:English Mostly: Co-Creating Plurilingual Classroom Policies
DESCRIPTION:Subject-Matter Expert: Rebecca Schmor
URL:https://teslontario.org/event/english-mostly-co-creating-plurilingual-classroom-policies/
END:VEVENT
BEGIN:VEVENT
DTSTART;TZID=America/Toronto:20231124T183000
DTEND;TZID=America/Toronto:20231124T210000
DTSTAMP:20260425T064828
CREATED:20231121T203811Z
LAST-MODIFIED:20231121T203811Z
UID:10000031-1700850600-1700859600@teslontario.org
SUMMARY:TESL Niagara Member Social Event
DESCRIPTION:
URL:https://teslontario.org/event/tesl-niagara-member-social-event/
END:VEVENT
BEGIN:VEVENT
DTSTART;TZID=UTC:20231123T200000
DTEND;TZID=UTC:20231123T210000
DTSTAMP:20260425T064828
CREATED:20230927T012002Z
LAST-MODIFIED:20230927T012002Z
UID:10000013-1700769600-1700773200@teslontario.org
SUMMARY:Canadian Workplace Pragmatics
DESCRIPTION:Presenter: Anjum Karimi\, OCELT
URL:https://teslontario.org/event/canadian-workplace-pragmatics/
END:VEVENT
BEGIN:VEVENT
DTSTART;TZID=America/Toronto:20231122T173000
DTEND;TZID=America/Toronto:20231122T203000
DTSTAMP:20260425T064828
CREATED:20231113T214359Z
LAST-MODIFIED:20231113T214359Z
UID:10000029-1700674200-1700685000@teslontario.org
SUMMARY:TESL Toronto Workshop & AGM
DESCRIPTION:
URL:https://teslontario.org/event/tesl-toronto-workshop-agm/
END:VEVENT
BEGIN:VEVENT
DTSTART;TZID=UTC:20231110T090000
DTEND;TZID=UTC:20231110T160000
DTSTAMP:20260425T064828
CREATED:20231001T064203Z
LAST-MODIFIED:20231020T034132Z
UID:10000022-1699606800-1699632000@teslontario.org
SUMMARY:TESL Ontario Conference
DESCRIPTION:
URL:https://teslontario.org/event/tesl-ontario-conference-3/
END:VEVENT
BEGIN:VEVENT
DTSTART;TZID=UTC:20231109T090000
DTEND;TZID=UTC:20231109T173000
DTSTAMP:20260425T064828
CREATED:20231001T064111Z
LAST-MODIFIED:20231020T034216Z
UID:10000021-1699520400-1699551000@teslontario.org
SUMMARY:TESL Ontario Conference
DESCRIPTION:
URL:https://teslontario.org/event/tesl-ontario-conference-2/
END:VEVENT
BEGIN:VEVENT
DTSTART;TZID=UTC:20231108T090000
DTEND;TZID=UTC:20231108T210000
DTSTAMP:20260425T064828
CREATED:20231001T063832Z
LAST-MODIFIED:20231020T034247Z
UID:10000020-1699434000-1699477200@teslontario.org
SUMMARY:TESL Ontario Conference
DESCRIPTION:
URL:https://teslontario.org/event/tesl-ontario-conference/
END:VEVENT
BEGIN:VEVENT
DTSTART;TZID=UTC:20231026T180000
DTEND;TZID=UTC:20231026T200000
DTSTAMP:20260425T064828
CREATED:20231021T033058Z
LAST-MODIFIED:20231021T033058Z
UID:10000027-1698343200-1698350400@teslontario.org
SUMMARY:TESL WW Mini PD Event
DESCRIPTION:
URL:https://teslontario.org/event/tesl-ww-mini-pd-event/
END:VEVENT
BEGIN:VEVENT
DTSTART;VALUE=DATE:20231021
DTEND;VALUE=DATE:20231022
DTSTAMP:20260425T064828
CREATED:20230927T023826Z
LAST-MODIFIED:20231021T033329Z
UID:10000019-1697846400-1697932799@teslontario.org
SUMMARY:TESL London Fall Conference
DESCRIPTION:
URL:https://teslontario.org/event/tesl-london-fall-conference/
END:VEVENT
BEGIN:VEVENT
DTSTART;TZID=UTC:20231012T190000
DTEND;TZID=UTC:20231012T201500
DTSTAMP:20260425T064828
CREATED:20230927T022233Z
LAST-MODIFIED:20230927T022233Z
UID:10000018-1697137200-1697141700@teslontario.org
SUMMARY:TESL Ontario Mentorship Pilot Program
DESCRIPTION:Presenters: Susan Webb\, Anjum Karimi\, Dr. MaryAnne John\, Jennifer Jones
URL:https://teslontario.org/event/tesl-ontario-mentorship-pilot-program/
END:VEVENT
BEGIN:VEVENT
DTSTART;TZID=UTC:20231004T190000
DTEND;TZID=UTC:20231004T200000
DTSTAMP:20260425T064828
CREATED:20230927T011145Z
LAST-MODIFIED:20230927T011145Z
UID:10000014-1696446000-1696449600@teslontario.org
SUMMARY:Health Insurance 101 – What You Need to Know
DESCRIPTION:Presenters: Galen Flynn & Kaylie Flynn
URL:https://teslontario.org/event/health-insurance-101-what-you-need-to-know/
END:VEVENT
END:VCALENDAR