BEGIN:VCALENDAR
VERSION:2.0
PRODID:-//TESL Ontario - ECPv6.15.20//NONSGML v1.0//EN
CALSCALE:GREGORIAN
METHOD:PUBLISH
X-ORIGINAL-URL:https://teslontario.org
X-WR-CALDESC:Events for TESL Ontario
REFRESH-INTERVAL;VALUE=DURATION:PT1H
X-Robots-Tag:noindex
X-PUBLISHED-TTL:PT1H
BEGIN:VTIMEZONE
TZID:America/Toronto
BEGIN:DAYLIGHT
TZOFFSETFROM:-0500
TZOFFSETTO:-0400
TZNAME:EDT
DTSTART:20240310T070000
END:DAYLIGHT
BEGIN:STANDARD
TZOFFSETFROM:-0400
TZOFFSETTO:-0500
TZNAME:EST
DTSTART:20241103T060000
END:STANDARD
BEGIN:DAYLIGHT
TZOFFSETFROM:-0500
TZOFFSETTO:-0400
TZNAME:EDT
DTSTART:20250309T070000
END:DAYLIGHT
BEGIN:STANDARD
TZOFFSETFROM:-0400
TZOFFSETTO:-0500
TZNAME:EST
DTSTART:20251102T060000
END:STANDARD
BEGIN:DAYLIGHT
TZOFFSETFROM:-0500
TZOFFSETTO:-0400
TZNAME:EDT
DTSTART:20260308T070000
END:DAYLIGHT
BEGIN:STANDARD
TZOFFSETFROM:-0400
TZOFFSETTO:-0500
TZNAME:EST
DTSTART:20261101T060000
END:STANDARD
END:VTIMEZONE
BEGIN:VEVENT
DTSTART;TZID=America/Toronto:20250206T180000
DTEND;TZID=America/Toronto:20250206T200000
DTSTAMP:20260425T093556
CREATED:20250122T140606Z
LAST-MODIFIED:20250122T140606Z
UID:10000082-1738864800-1738872000@teslontario.org
SUMMARY:TESL WW In-Person Mini-PD
DESCRIPTION:
URL:https://teslontario.org/event/tesl-ww-in-person-mini-pd/
END:VEVENT
BEGIN:VEVENT
DTSTART;TZID=America/Toronto:20250208T090000
DTEND;TZID=America/Toronto:20250208T130000
DTSTAMP:20260425T093556
CREATED:20250127T140108Z
LAST-MODIFIED:20250127T140108Z
UID:10000083-1739005200-1739019600@teslontario.org
SUMMARY:TESL Toronto Technology for Teachers (T4T)
DESCRIPTION:
URL:https://teslontario.org/event/tesl-toronto-technology-for-teachers-t4t/
END:VEVENT
BEGIN:VEVENT
DTSTART;TZID=America/Toronto:20250220T200000
DTEND;TZID=America/Toronto:20250220T210000
DTSTAMP:20260425T093556
CREATED:20240822T202105Z
LAST-MODIFIED:20240822T202105Z
UID:10000070-1740081600-1740085200@teslontario.org
SUMMARY:Adaptations for Neurodiversity\, Steps to Inclusion
DESCRIPTION:Presenter: Viviana Inés Canulli
URL:https://teslontario.org/event/adaptations-for-neurodiversity-steps-to-inclusion/
END:VEVENT
BEGIN:VEVENT
DTSTART;TZID=America/Toronto:20250224T190000
DTEND;TZID=America/Toronto:20250224T200000
DTSTAMP:20260425T093556
CREATED:20250203T205722Z
LAST-MODIFIED:20250203T205722Z
UID:10000085-1740423600-1740427200@teslontario.org
SUMMARY:TESL Ontario Mentorship Event
DESCRIPTION:
URL:https://teslontario.org/event/tesl-ontario-mentorship-event/
END:VEVENT
BEGIN:VEVENT
DTSTART;TZID=America/Toronto:20250227T200000
DTEND;TZID=America/Toronto:20250227T210000
DTSTAMP:20260425T093556
CREATED:20240904T193756Z
LAST-MODIFIED:20240904T193756Z
UID:10000071-1740686400-1740690000@teslontario.org
SUMMARY:Neuro Linguistic Programming Strategies for Reducing Stress
DESCRIPTION:Presenter: Kristyn Livermore\, OCELT
URL:https://teslontario.org/event/neuro-linguistic-programming-strategies-for-reducing-stress/
END:VEVENT
END:VCALENDAR