BEGIN:VCALENDAR
VERSION:2.0
PRODID:-//TESL Ontario - ECPv6.15.20//NONSGML v1.0//EN
CALSCALE:GREGORIAN
METHOD:PUBLISH
X-ORIGINAL-URL:https://teslontario.org
X-WR-CALDESC:Events for TESL Ontario
REFRESH-INTERVAL;VALUE=DURATION:PT1H
X-Robots-Tag:noindex
X-PUBLISHED-TTL:PT1H
BEGIN:VTIMEZONE
TZID:America/Toronto
BEGIN:DAYLIGHT
TZOFFSETFROM:-0500
TZOFFSETTO:-0400
TZNAME:EDT
DTSTART:20240310T070000
END:DAYLIGHT
BEGIN:STANDARD
TZOFFSETFROM:-0400
TZOFFSETTO:-0500
TZNAME:EST
DTSTART:20241103T060000
END:STANDARD
BEGIN:DAYLIGHT
TZOFFSETFROM:-0500
TZOFFSETTO:-0400
TZNAME:EDT
DTSTART:20250309T070000
END:DAYLIGHT
BEGIN:STANDARD
TZOFFSETFROM:-0400
TZOFFSETTO:-0500
TZNAME:EST
DTSTART:20251102T060000
END:STANDARD
BEGIN:DAYLIGHT
TZOFFSETFROM:-0500
TZOFFSETTO:-0400
TZNAME:EDT
DTSTART:20260308T070000
END:DAYLIGHT
BEGIN:STANDARD
TZOFFSETFROM:-0400
TZOFFSETTO:-0500
TZNAME:EST
DTSTART:20261101T060000
END:STANDARD
END:VTIMEZONE
BEGIN:VEVENT
DTSTART;TZID=America/Toronto:20250319T180000
DTEND;TZID=America/Toronto:20250319T200000
DTSTAMP:20260425T080624
CREATED:20250318T195055Z
LAST-MODIFIED:20250318T195055Z
UID:10000094-1742407200-1742414400@teslontario.org
SUMMARY:TESL PHE AGM and PD event
DESCRIPTION:
URL:https://teslontario.org/event/tesl-phe-agm-and-pd-event/
END:VEVENT
BEGIN:VEVENT
DTSTART;TZID=America/Toronto:20250320T200000
DTEND;TZID=America/Toronto:20250320T210000
DTSTAMP:20260425T080624
CREATED:20241107T153958Z
LAST-MODIFIED:20241107T153958Z
UID:10000076-1742500800-1742504400@teslontario.org
SUMMARY:Using Storytelling in Literature for English Learner Education
DESCRIPTION:Presenter: Alice Pivniceru
URL:https://teslontario.org/event/using-storytelling-in-literature-for-english-learner-education/
END:VEVENT
BEGIN:VEVENT
DTSTART;TZID=America/Toronto:20250326T190000
DTEND;TZID=America/Toronto:20250326T200000
DTSTAMP:20260425T080624
CREATED:20250115T212852Z
LAST-MODIFIED:20250115T212852Z
UID:10000080-1743015600-1743019200@teslontario.org
SUMMARY:Using AI to Code ESL Activities
DESCRIPTION:Presenter: Sara Machan\, OCELT
URL:https://teslontario.org/event/using-ai-to-code-esl-activities/
END:VEVENT
END:VCALENDAR