BEGIN:VCALENDAR
VERSION:2.0
PRODID:-//TESL Ontario - ECPv6.15.20//NONSGML v1.0//EN
CALSCALE:GREGORIAN
METHOD:PUBLISH
X-ORIGINAL-URL:https://teslontario.org
X-WR-CALDESC:Events for TESL Ontario
REFRESH-INTERVAL;VALUE=DURATION:PT1H
X-Robots-Tag:noindex
X-PUBLISHED-TTL:PT1H
BEGIN:VTIMEZONE
TZID:America/Toronto
BEGIN:DAYLIGHT
TZOFFSETFROM:-0500
TZOFFSETTO:-0400
TZNAME:EDT
DTSTART:20240310T070000
END:DAYLIGHT
BEGIN:STANDARD
TZOFFSETFROM:-0400
TZOFFSETTO:-0500
TZNAME:EST
DTSTART:20241103T060000
END:STANDARD
BEGIN:DAYLIGHT
TZOFFSETFROM:-0500
TZOFFSETTO:-0400
TZNAME:EDT
DTSTART:20250309T070000
END:DAYLIGHT
BEGIN:STANDARD
TZOFFSETFROM:-0400
TZOFFSETTO:-0500
TZNAME:EST
DTSTART:20251102T060000
END:STANDARD
BEGIN:DAYLIGHT
TZOFFSETFROM:-0500
TZOFFSETTO:-0400
TZNAME:EDT
DTSTART:20260308T070000
END:DAYLIGHT
BEGIN:STANDARD
TZOFFSETFROM:-0400
TZOFFSETTO:-0500
TZNAME:EST
DTSTART:20261101T060000
END:STANDARD
END:VTIMEZONE
BEGIN:VEVENT
DTSTART;TZID=America/Toronto:20250906T130000
DTEND;TZID=America/Toronto:20250906T160000
DTSTAMP:20260424T225029
CREATED:20250811T195251Z
LAST-MODIFIED:20250811T195251Z
UID:10000118-1757163600-1757174400@teslontario.org
SUMMARY:TESL Niagara PD Event
DESCRIPTION:
URL:https://teslontario.org/event/tesl-niagara-pd-event/
END:VEVENT
BEGIN:VEVENT
DTSTART;TZID=America/Toronto:20250917T190000
DTEND;TZID=America/Toronto:20250917T200000
DTSTAMP:20260424T225029
CREATED:20250430T152746Z
LAST-MODIFIED:20250430T152746Z
UID:10000105-1758135600-1758139200@teslontario.org
SUMMARY:Differentiated Instructions for Mixed-Ability Classrooms
DESCRIPTION:Presenter: Samir Sefain
URL:https://teslontario.org/event/differentiated-instructions-for-mixed-ability-classrooms/
END:VEVENT
BEGIN:VEVENT
DTSTART;TZID=America/Toronto:20250917T190000
DTEND;TZID=America/Toronto:20250917T200000
DTSTAMP:20260424T225029
CREATED:20250825T201251Z
LAST-MODIFIED:20250825T201251Z
UID:10000120-1758135600-1758139200@teslontario.org
SUMMARY:TESL Kingston Social Mix #2
DESCRIPTION:
URL:https://teslontario.org/event/tesl-kingston-social-mix-2/
END:VEVENT
BEGIN:VEVENT
DTSTART;TZID=America/Toronto:20250921T190000
DTEND;TZID=America/Toronto:20250921T200000
DTSTAMP:20260424T225029
CREATED:20250527T201833Z
LAST-MODIFIED:20250527T201911Z
UID:10000109-1758481200-1758484800@teslontario.org
SUMMARY:Enhancing ESL Learners’ Productive Vocabulary Through Multimedia Design
DESCRIPTION:Presenter: Hala Bastawros\, OCELT
URL:https://teslontario.org/event/enhancing-esl-learners-productive-vocabulary-through-multimedia-design/
END:VEVENT
BEGIN:VEVENT
DTSTART;VALUE=DATE:20250926
DTEND;VALUE=DATE:20250927
DTSTAMP:20260424T225029
CREATED:20250811T195208Z
LAST-MODIFIED:20250811T195208Z
UID:10000117-1758844800-1758931199@teslontario.org
SUMMARY:TESL Hamilton-Wentworth Networking Event
DESCRIPTION:
URL:https://teslontario.org/event/tesl-hamilton-wentworth-networking-event/
END:VEVENT
END:VCALENDAR