BEGIN:VCALENDAR
VERSION:2.0
PRODID:-//TESL Ontario - ECPv6.15.20//NONSGML v1.0//EN
CALSCALE:GREGORIAN
METHOD:PUBLISH
X-WR-CALNAME:TESL Ontario
X-ORIGINAL-URL:https://teslontario.org
X-WR-CALDESC:Events for TESL Ontario
REFRESH-INTERVAL;VALUE=DURATION:PT1H
X-Robots-Tag:noindex
X-PUBLISHED-TTL:PT1H
BEGIN:VTIMEZONE
TZID:America/Toronto
BEGIN:DAYLIGHT
TZOFFSETFROM:-0500
TZOFFSETTO:-0400
TZNAME:EDT
DTSTART:20240310T070000
END:DAYLIGHT
BEGIN:STANDARD
TZOFFSETFROM:-0400
TZOFFSETTO:-0500
TZNAME:EST
DTSTART:20241103T060000
END:STANDARD
BEGIN:DAYLIGHT
TZOFFSETFROM:-0500
TZOFFSETTO:-0400
TZNAME:EDT
DTSTART:20250309T070000
END:DAYLIGHT
BEGIN:STANDARD
TZOFFSETFROM:-0400
TZOFFSETTO:-0500
TZNAME:EST
DTSTART:20251102T060000
END:STANDARD
BEGIN:DAYLIGHT
TZOFFSETFROM:-0500
TZOFFSETTO:-0400
TZNAME:EDT
DTSTART:20260308T070000
END:DAYLIGHT
BEGIN:STANDARD
TZOFFSETFROM:-0400
TZOFFSETTO:-0500
TZNAME:EST
DTSTART:20261101T060000
END:STANDARD
END:VTIMEZONE
BEGIN:VEVENT
DTSTART;TZID=America/Toronto:20251203T190000
DTEND;TZID=America/Toronto:20251203T200000
DTSTAMP:20260424T180133
CREATED:20250626T174547Z
LAST-MODIFIED:20250626T174547Z
UID:10000112-1764788400-1764792000@teslontario.org
SUMMARY:Student Outcomes in College & University EAP Programs
DESCRIPTION:Presenters: Danielle Freitas\, OCELT; Julian Inglis\, Valerie Kilgour\, OCELT\, & Chenxi He
URL:https://teslontario.org/event/student-outcomes-in-college-university-eap-programs/
END:VEVENT
BEGIN:VEVENT
DTSTART;TZID=America/Toronto:20251207T140000
DTEND;TZID=America/Toronto:20251207T150000
DTSTAMP:20260424T180133
CREATED:20250717T152930Z
LAST-MODIFIED:20250929T184336Z
UID:10000114-1765116000-1765119600@teslontario.org
SUMMARY:Gamification: From Counting Minutes to Hooray – My Secret Recipe
DESCRIPTION:Presenter: Azza Salman
URL:https://teslontario.org/event/gamification-from-counting-minutes-to-hooray-my-secret-recipe/
END:VEVENT
BEGIN:VEVENT
DTSTART;TZID=America/Toronto:20251214T140000
DTEND;TZID=America/Toronto:20251214T160000
DTSTAMP:20260424T180133
CREATED:20251112T213414Z
LAST-MODIFIED:20251112T213849Z
UID:10000127-1765720800-1765728000@teslontario.org
SUMMARY:TESL Niagara's Holiday Bowling Social
DESCRIPTION:
URL:https://teslontario.org/event/tesl-niagaras-holiday-bowling-social/
END:VEVENT
END:VCALENDAR