BEGIN:VCALENDAR
VERSION:2.0
PRODID:-//TESL Ontario - ECPv6.15.20//NONSGML v1.0//EN
CALSCALE:GREGORIAN
METHOD:PUBLISH
X-ORIGINAL-URL:https://teslontario.org
X-WR-CALDESC:Events for TESL Ontario
REFRESH-INTERVAL;VALUE=DURATION:PT1H
X-Robots-Tag:noindex
X-PUBLISHED-TTL:PT1H
BEGIN:VTIMEZONE
TZID:America/Toronto
BEGIN:DAYLIGHT
TZOFFSETFROM:-0500
TZOFFSETTO:-0400
TZNAME:EDT
DTSTART:20250309T070000
END:DAYLIGHT
BEGIN:STANDARD
TZOFFSETFROM:-0400
TZOFFSETTO:-0500
TZNAME:EST
DTSTART:20251102T060000
END:STANDARD
BEGIN:DAYLIGHT
TZOFFSETFROM:-0500
TZOFFSETTO:-0400
TZNAME:EDT
DTSTART:20260308T070000
END:DAYLIGHT
BEGIN:STANDARD
TZOFFSETFROM:-0400
TZOFFSETTO:-0500
TZNAME:EST
DTSTART:20261101T060000
END:STANDARD
BEGIN:DAYLIGHT
TZOFFSETFROM:-0500
TZOFFSETTO:-0400
TZNAME:EDT
DTSTART:20270314T070000
END:DAYLIGHT
BEGIN:STANDARD
TZOFFSETFROM:-0400
TZOFFSETTO:-0500
TZNAME:EST
DTSTART:20271107T060000
END:STANDARD
END:VTIMEZONE
BEGIN:VEVENT
DTSTART;TZID=America/Toronto:20260618T200000
DTEND;TZID=America/Toronto:20260618T210000
DTSTAMP:20260424T133415
CREATED:20260120T193809Z
LAST-MODIFIED:20260120T202039Z
UID:10000136-1781812800-1781816400@teslontario.org
SUMMARY:Benchmarking Digital Prowess in Language Learning
DESCRIPTION:Presenter: Toby Iran Ali\, OCELT
URL:https://teslontario.org/event/benchmarking-digital-prowess-in-language-learning/
END:VEVENT
BEGIN:VEVENT
DTSTART;TZID=America/Toronto:20260628T190000
DTEND;TZID=America/Toronto:20260628T200000
DTSTAMP:20260424T133415
CREATED:20260120T201741Z
LAST-MODIFIED:20260120T224007Z
UID:10000138-1782673200-1782676800@teslontario.org
SUMMARY:Volunteers Make the Difference
DESCRIPTION:Presenter Marijke Geurts\, Matthias Sturm\, and Ron Lavoie
URL:https://teslontario.org/event/volunteers-make-the-difference/
END:VEVENT
END:VCALENDAR